BEGIN:VCALENDAR
VERSION:2.0
PRODID:-//Eventin//Event Calendar//EN
CALSCALE:GREGORIAN
METHOD:PUBLISH
BEGIN:VEVENT
UID:db11f9fb375e5a712b6b66ca2270b413@littleredknits.com
SUMMARY:May Sip & Stitch
DESCRIPTION:Do you love fiber arts and want to join a tight “knit” comm
 unity to craft with? Look no further! Little Red Knits hosts a free monthly
  Sip & Stitch gathering. We meet in the event space inside of the Rust Belt
  Market\, right across from the Little Red Knits yarn shop. Bring a project
  or pick out some new yarn and craft for a couple hours with other fiber lo
 ving members of the community. All fiber related crafts and folks are welco
 me!\n \nFriendly reminders/info for first time attendees:-We will meet in 
 the event space\, across from the Little Red Knits store-There is free park
 ing on Sundays in Ferndale. The Withington Lot is the closest to the Rust B
 elt’s back entrance right where we met in the event space-10% off entire 
 shop for those who attend the Sip & Stitch-This is not a class\, but more a
  community get together! Bring a project\, grab a coffee or drink\, and han
 gout with other people who love to knit/crochet/needlepoint/anything fiber 
 related\n \nIf you have any questions let me know\, see you soon! 
LOCATION:Rust Belt Market - 22801 Woodward Ave Ferndale\, MI 48220
DTSTAMP:20260424T164513Z
DTSTART:20260517T160000Z
DTEND:20260517T180000Z
END:VEVENT
END:VCALENDAR
