BEGIN:VCALENDAR
VERSION:2.0
PRODID:-//Eventin//Event Calendar//EN
CALSCALE:GREGORIAN
METHOD:PUBLISH
BEGIN:VEVENT
UID:f1cdf37ff1e4a659fc199d74ba40037a@littleredknits.com
SUMMARY:LEARN TO CROCHET - LEVEL 1
DESCRIPTION:Learn the basics of crochet with veteran crocheter Gianna Gaizi
  of Little Red Knits in this 90 minute\, small group crochet class.\n\n\n 
 \n\n\n\n\n\n\nCome join us for a fun and cozy afternoon learning the very b
 asics of crochet! Instructor and owner of Little Red Knits\, Gianna Gaizi\,
  is a seasoned crocheter and will be teaching you the very basics\, so no p
 rior experience is required. This in-person and small group class is perfec
 t for absolute beginners looking to learn a new skill\, or for folks who ha
 ve crocheted in the past that need a refresher to get back into the craft. 
 Don’t miss out on this wonderful opportunity to learn something new and c
 onnect with fellow crafters!
LOCATION:Rust Belt Market - 22801 Woodward Ave Ferndale\, MI 48220
DTSTAMP:20260424T163218Z
DTSTART:20260503T180000Z
DTEND:20260503T193000Z
END:VEVENT
END:VCALENDAR
